BEGIN:VCALENDAR
VERSION:2.0
PRODID:ics.py - http://git.io/lLljaA
BEGIN:VEVENT
ATTACH;FILENAME=event-poster.jpg:https://studibars-ac.de/uploads/events/photo_5420411013351281168_y.jpg
X-APPLE-STRUCTURED-LOCATION;VALUE=URI;X-ADDRESS="K2 Bar, Kastanienweg 23, 52074 Aachen, Germany";X-APPLE-RADIUS=15;X-TITLE=K2 Bar:geo:50.7836210000000000,6.0525910000000000
BEGIN:VALARM
ACTION:DISPLAY
DESCRIPTION:
TRIGGER:-P1D
END:VALARM
DESCRIPTION:Wer sich vom astaluna am Wochenende schon wieder erholt hat oder direkt weiter feiern will\, morgen machen wir die Kawo2 Bar zum Club! 🎉🕺\r\n\r\nAb 22 Uhr legt DJ Cook live auf 🎧 und wir haben ein paar coole Specials für euch:\r\n- Die ersten 10 Leute kriegen einen Free Shot. 🍸\r\n- Volle Clubkarte = 2 Abrisse Nachlass auf Bier beim Einlösen. 🍺\r\n- Ausgewählte Shots gibt's den ganzen Abend 4 für 2. 🥂\r\n\r\nSchnappt euch eure WG und kommt rum. Wir sehen uns an der Bar! 🍻\r\n\r\n‐--------------------------------------\r\n\r\nFor those who have already recovered from astaluna over the weekend or want to keep partying right away\, tomorrow we are turning the Kawo2 Bar into a club! 🎉🕺\r\n\r\nStarting at 10 PM\, DJ Cook will be playing live 🎧 and we have some cool specials for you:\r\n- The first 10 people get a free shot. 🍸\r\n- Full club card = 2 AB discount on beer when redeeming. 🍺\r\n- Selected shots are 4 for 2 all evening. 🥂\r\n\r\nGrab your roommates and come by. See you at the bar! 🍻
DTEND:20260422T000000Z
GEO:50.783621;6.052591
LOCATION:K2 Bar\nKastanienweg 23\, 52074 Aachen\, Germany
ORGANIZER;CN=K2 Bar:mailto:noreply@studibars-ac.de
DTSTART:20260421T200000Z
STATUS:CONFIRMED
SUMMARY:Club Bar
UID:event-90@studibars-ac.de
URL:https://studibars-ac.de/k2-bar/club-bar-21-04-2026--90/
END:VEVENT
END:VCALENDAR